BEGIN:VCALENDAR
VERSION:2.0
PRODID:-//Pioneer Bluffs - ECPv6.15.20//NONSGML v1.0//EN
CALSCALE:GREGORIAN
METHOD:PUBLISH
X-WR-CALNAME:Pioneer Bluffs
X-ORIGINAL-URL:https://pioneerbluffs.org
X-WR-CALDESC:Events for Pioneer Bluffs
REFRESH-INTERVAL;VALUE=DURATION:PT1H
X-Robots-Tag:noindex
X-PUBLISHED-TTL:PT1H
BEGIN:VTIMEZONE
TZID:America/Chicago
BEGIN:DAYLIGHT
TZOFFSETFROM:-0600
TZOFFSETTO:-0500
TZNAME:CDT
DTSTART:20210314T080000
END:DAYLIGHT
BEGIN:STANDARD
TZOFFSETFROM:-0500
TZOFFSETTO:-0600
TZNAME:CST
DTSTART:20211107T070000
END:STANDARD
BEGIN:DAYLIGHT
TZOFFSETFROM:-0600
TZOFFSETTO:-0500
TZNAME:CDT
DTSTART:20220313T080000
END:DAYLIGHT
BEGIN:STANDARD
TZOFFSETFROM:-0500
TZOFFSETTO:-0600
TZNAME:CST
DTSTART:20221106T070000
END:STANDARD
BEGIN:DAYLIGHT
TZOFFSETFROM:-0600
TZOFFSETTO:-0500
TZNAME:CDT
DTSTART:20230312T080000
END:DAYLIGHT
BEGIN:STANDARD
TZOFFSETFROM:-0500
TZOFFSETTO:-0600
TZNAME:CST
DTSTART:20231105T070000
END:STANDARD
END:VTIMEZONE
BEGIN:VEVENT
DTSTART;TZID=America/Chicago:20220611T100000
DTEND;TZID=America/Chicago:20220611T140000
DTSTAMP:20260425T172938
CREATED:20220513T181713Z
LAST-MODIFIED:20220517T191626Z
UID:10000023-1654941600-1654956000@pioneerbluffs.org
SUMMARY:Symphony Day Open House (and Barn)
DESCRIPTION:Our barn and house will be open on Saturday\, June 11. Whether you are heading to the Symphony in the Flint Hills (which is just up the road from Pioneer Bluffs this year)\, or simply out enjoying the Flint Hills\, this is a chance to tour our National Register Historic District. Our volunteers will be in the house\, ready to greet you with cold water and homemade cookies. And our restroom facilities will be open. \nBring a picnic\, hike our Nature Trail\, take our self-guided tour.
URL:https://pioneerbluffs.org/event/symphony-day-open-house-and-barn/
LOCATION:Pioneer Bluffs: Flint Hills Ranching Heritage Center\, 695 Kansas Highway 177\, Matfield Green\, KS\, KS\, 66862\, United States
CATEGORIES:Open House
ATTACH;FMTTYPE=image/jpeg:https://pioneerbluffs.org/wp-content/uploads/2022/05/PB-courtyard-area-by-Dave-Leiker.jpg
ORGANIZER;CN="Info@pioneerbluffs.org":MAILTO:info@pioneerbluffs.org
GEO:38.178627;-96.566638
X-APPLE-STRUCTURED-LOCATION;VALUE=URI;X-ADDRESS=Pioneer Bluffs: Flint Hills Ranching Heritage Center 695 Kansas Highway 177 Matfield Green KS KS 66862 United States;X-APPLE-RADIUS=500;X-TITLE=695 Kansas Highway 177:geo:-96.566638,38.178627
END:VEVENT
END:VCALENDAR